BEGIN:VCALENDAR
VERSION:2.0
PRODID:-//eventon.com NONSGML v1.0//EN
CALSCALE:GREGORIAN
METHOD:PUBLISH
BEGIN:VEVENT
UID:69e5decd9eccf
DTSTAMP:20260420T080741Z
DTSTART:20230402T180000Z
DTEND:20230402T215000Z
LOCATION:Exchange
SUMMARY:Aesthetic Perfection
DESCRIPTION:Aesthetic Perfection is a 100% independent industrial pop proje
 ct made up of Los Angeles-born\,  Austrian-based producer Daniel Graves and
  New York based drummer Joe Letz. Over a career spanning 20 years\,  six fu
 ll-length albums\,  and numerous singles and music videos\,  Graves and cre
 w have reinvented dark electro\,  combining industrial\,  pop\, [..]\nhttps
 ://black-generation.de/events/aesthetic-perfection-57/
URL:https://black-generation.de/events/aesthetic-perfection-57/
END:VEVENT
END:VCALENDAR