BEGIN:VCALENDAR
VERSION:2.0
PRODID:-//eventon.com NONSGML v1.0//EN
CALSCALE:GREGORIAN
METHOD:PUBLISH
BEGIN:VEVENT
UID:69e7098d97a5e
DTSTAMP:20260421T052221Z
DTSTART:20230311T190000Z
DTEND:20230311T225000Z
LOCATION:Camp and Furnace
SUMMARY:Ladytron
DESCRIPTION:Electronic pop quartet Ladytron announce their highly anticipat
 ed seventh studio album Time’s Arrow\,  with the brand new single City Of
  Angelsonline today. The album\,  set for release via Cooking Vinyl on 20th
  January 2023\,  will be followed by UK tour dates in March.&nbsp;&nbsp;\nh
 ttps://black-generation.de/events/ladytron-2/
URL:https://black-generation.de/events/ladytron-2/
END:VEVENT
END:VCALENDAR