BEGIN:VCALENDAR
VERSION:2.0
PRODID:-//eventon.com NONSGML v1.0//EN
CALSCALE:GREGORIAN
METHOD:PUBLISH
BEGIN:VEVENT
UID:69e74594d00b0
DTSTAMP:20260421T093828Z
DTSTART:20221102T190000Z
DTEND:20221102T225000Z
LOCATION:Zenith
SUMMARY:Porcupine Tree
DESCRIPTION:Porcupine Tree gelten seit den frühen 90ern als eines der einf
 lussreichsten und kreativsten Musikprojekte. Zwischen dem 21.10. und dem 11
 . November geht die Band auf Europa Tournee.Pic by Alex Lake\nhttps://black
 -generation.de/events/porcupine-tree-9/
URL:https://black-generation.de/events/porcupine-tree-9/
END:VEVENT
END:VCALENDAR