BEGIN:VCALENDAR
VERSION:2.0
PRODID:-//eventon.com NONSGML v1.0//EN
CALSCALE:GREGORIAN
METHOD:PUBLISH
BEGIN:VEVENT
UID:69e755ac724bf
DTSTAMP:20260421T104708Z
DTSTART:20221024T180000Z
DTEND:20221024T215000Z
LOCATION:Mediolanum Forum
SUMMARY:Porcupine Tree
DESCRIPTION:Porcupine Tree gelten seit den frühen 90ern als eines der einf
 lussreichsten und kreativsten Musikprojekte. Zwischen dem 21.10. und dem 11
 . November geht die Band auf Europa Tournee.Pic by Alex Lake\nhttps://black
 -generation.de/events/porcupine-tree-5/
URL:https://black-generation.de/events/porcupine-tree-5/
END:VEVENT
END:VCALENDAR