BEGIN:VCALENDAR
VERSION:2.0
PRODID:-//eventon.com NONSGML v1.0//EN
CALSCALE:GREGORIAN
METHOD:PUBLISH
BEGIN:VEVENT
UID:69e98944cc23b
DTSTAMP:20260423T025148Z
DTSTART:20230614T180000Z
DTEND:20230614T215000Z
LOCATION:Malahide Castle
SUMMARY:Depeche Mode
DESCRIPTION:Depeche Mode will be on Memento Mori World Tour in 2023\nhttps:
 //black-generation.de/events/depeche-mode-22/
URL:https://black-generation.de/events/depeche-mode-22/
END:VEVENT
END:VCALENDAR