BEGIN:VCALENDAR
VERSION:2.0
PRODID:-//eventon.com NONSGML v1.0//EN
CALSCALE:GREGORIAN
METHOD:PUBLISH
BEGIN:VEVENT
UID:69e940ba703e0
DTSTAMP:20260422T214218Z
DTSTART:20230730T180000Z
DTEND:20230730T215000Z
LOCATION:Stadion Śląski
SUMMARY:Rammstein
DESCRIPTION:The Rammstein Europe Stadium Tour goes into the next round!\nht
 tps://black-generation.de/events/rammstein-49/
URL:https://black-generation.de/events/rammstein-49/
END:VEVENT
END:VCALENDAR