BEGIN:VCALENDAR
VERSION:2.0
PRODID:-//eventon.com NONSGML v1.0//EN
CALSCALE:GREGORIAN
METHOD:PUBLISH
BEGIN:VEVENT
UID:69e60bbf67ec9
DTSTAMP:20260420T111927Z
DTSTART:20230706T180000Z
DTEND:20230706T215000Z
LOCATION:Stadspark
SUMMARY:Rammstein
DESCRIPTION:The Rammstein Europe Stadium Tour goes into the next round!\nht
 tps://black-generation.de/events/rammstein-46/
URL:https://black-generation.de/events/rammstein-46/
END:VEVENT
END:VCALENDAR