BEGIN:VCALENDAR
VERSION:2.0
PRODID:-//eventon.com NONSGML v1.0//EN
CALSCALE:GREGORIAN
METHOD:PUBLISH
BEGIN:VEVENT
UID:69e83ab8ce56e
DTSTAMP:20260422T030424Z
DTSTART:20230701T180000Z
DTEND:20230701T215000Z
LOCATION:Stadio Euganeo
SUMMARY:Rammstein
DESCRIPTION:The Rammstein Europe Stadium Tour goes into the next round!\nht
 tps://black-generation.de/events/rammstein-45/
URL:https://black-generation.de/events/rammstein-45/
END:VEVENT
END:VCALENDAR