BEGIN:VCALENDAR
VERSION:2.0
PRODID:-//eventon.com NONSGML v1.0//EN
CALSCALE:GREGORIAN
METHOD:PUBLISH
BEGIN:VEVENT
UID:69e7135e29bd1
DTSTAMP:20260421T060414Z
DTSTART:20221010T030000Z
DTEND:20221010T065000Z
LOCATION:Oriental Theater
SUMMARY:Front 242
DESCRIPTION:The members of Front 242 have revealed that this falls campaign
  will be their FINAL North American tour. Official statement coming soon. C
 atch the men one last time and celebrate 40 years of iconic electronic body
  music\,  including cities rarely\,  if ever visited.\nhttps://black-genera
 tion.de/events/front-242-17/
URL:https://black-generation.de/events/front-242-17/
END:VEVENT
END:VCALENDAR