BEGIN:VCALENDAR
VERSION:2.0
PRODID:-//eventon.com NONSGML v1.0//EN
CALSCALE:GREGORIAN
METHOD:PUBLISH
BEGIN:VEVENT
UID:69e96939d1300
DTSTAMP:20260423T003505Z
DTSTART:20220930T030000Z
DTEND:20220930T065000Z
LOCATION:The Mayan
SUMMARY:Cold Waves X
DESCRIPTION:Line-up: Front 242 Xeno @ Oaklander Kite\nhttps://black-generat
 ion.de/events/cold-waves-x/
URL:https://black-generation.de/events/cold-waves-x/
END:VEVENT
END:VCALENDAR