BEGIN:VCALENDAR
VERSION:2.0
PRODID:-//eventon.com NONSGML v1.0//EN
CALSCALE:GREGORIAN
METHOD:PUBLISH
BEGIN:VEVENT
UID:69e5efb8a7511
DTSTAMP:20260420T091952Z
DTSTART:20220916T200000Z
DTEND:20220916T215000Z
LOCATION:Kulttempel Oberhausen Mülheimer Str. 24\,  46049 Oberhausen
SUMMARY:EBM Music Club
DESCRIPTION:Am Freitag\,  den 16.09.2022\,  öffnet der EBM Music Club ab 2
 2 Uhr die Pforten im Kulttempel Oberhausen. Wie gewohnt\,  werdet Ihr mit d
 em Besten\,  was das Genre &#8222;OLD School EBM&#8220; zu bieten hat\,  be
 dient. Diese Veranstaltung ist nichts für Weicheier\,  Pussies oder solche
 \,  die es werden wollen. Da unsere Stammgäste[..]\nhttps://black-generati
 on.de/events/ebm-music-club/
URL:https://black-generation.de/events/ebm-music-club/
END:VEVENT
END:VCALENDAR