BEGIN:VCALENDAR
VERSION:2.0
PRODID:-//eventon.com NONSGML v1.0//EN
CALSCALE:GREGORIAN
METHOD:PUBLISH
BEGIN:VEVENT
UID:69e8d1a66b464
DTSTAMP:20260422T134822Z
DTSTART:20221112T210000Z
DTEND:20221112T225000Z
LOCATION:Nachtwerk-Musikclub
SUMMARY:Depeche Mode & 80er Party
DESCRIPTION:Die legendäre Depeche Mode &amp; 80er Party im Nachtwerk Karls
 ruhe von und mit DJ Gillian. &#8212;&#8212;&#8212;&#8212;&#8212;&#8212;&#82
 12;&#8212;&#8212;&#8212;&#8212;&#8212;&#8212;&#8212;&#8212;&#8212;- Wer auf
  Depeche Mode und den Sound der 80er steht wird seine helle Freude haben. B
 ei der einzigartigen „Depeche Mode &amp; 80er Party“ darf zu den großa
 rtigen Songs von Depeche Mode\,  den kultigsten Hits[..]\nhttps://black-gen
 eration.de/events/depeche-mode-80er-party-2/
URL:https://black-generation.de/events/depeche-mode-80er-party-2/
END:VEVENT
END:VCALENDAR