BEGIN:VCALENDAR
VERSION:2.0
PRODID:-//eventon.com NONSGML v1.0//EN
CALSCALE:GREGORIAN
METHOD:PUBLISH
BEGIN:VEVENT
UID:69e77a8a39982
DTSTAMP:20260421T132426Z
DTSTART:20220924T200000Z
DTEND:20220924T215000Z
LOCATION:Nachtwerk-Musikclub
SUMMARY:Obscene Night - Euphoria: Die Fetisch & BDSM Dance & Play Party
DESCRIPTION:Die offizielle Aftershowparty der BDSM &amp; Fetisch Messe obsc
 ene. Fetisch BDSM Dance PlayEUPHORIA » Die Party für außergewöhnliche M
 enschen\,  die tanzen und spielen wollen. Wir möchten gemeinsam mit Euch f
 eiern und Spaß haben.Gewölbekeller – 3 Spielbereiche – Musik: Dark Se
 xual Beats by DJ GILLIAN 2022 heißt es: obscene goes Karlsruhe![..]\nhttps
 ://black-generation.de/events/obscene-night-euphoria-die-fetisch-bdsm-dance
 -play-party/
URL:https://black-generation.de/events/obscene-night-euphoria-die-fetisch-bdsm-dance-play-party/
END:VEVENT
END:VCALENDAR