BEGIN:VCALENDAR
VERSION:2.0
PRODID:-//eventon.com NONSGML v1.0//EN
CALSCALE:GREGORIAN
METHOD:PUBLISH
BEGIN:VEVENT
UID:69e7786d70a76
DTSTAMP:20260421T131525Z
DTSTART:20230520T180000Z
DTEND:20230520T215000Z
LOCATION:Theater am Aegi
SUMMARY:Alphaville
DESCRIPTION:40 Jahre Alphaville: Die große Jubiläumstour mit Hits wie &#8
 222;Forever Young&#8220;\,  &#8222;Big in Japan&#8220;\,  &#8222;Sounds lik
 e a Melody&#8220; u. v. m. mit Orchester!\nhttps://black-generation.de/even
 ts/alphaville-7/
URL:https://black-generation.de/events/alphaville-7/
END:VEVENT
END:VCALENDAR