BEGIN:VCALENDAR
VERSION:2.0
PRODID:-//eventon.com NONSGML v1.0//EN
CALSCALE:GREGORIAN
METHOD:PUBLISH
BEGIN:VEVENT
UID:69e911d16e351
DTSTAMP:20260422T182209Z
DTSTART:20221001T170000Z
DTEND:20221001T210000Z
LOCATION:SubKultur
SUMMARY:Faderhead (Sold Out)
DESCRIPTION:Faderhead ist eine Mischung aus Wunderkind und Workaholic\,  de
 nn er bescherte uns im letzten Jahrzehnt mehr Dark Electro Clubhits als irg
 end ein anderer Act: TZDV\,  Dirtygrrrls/Dirtybois\,  Destroy Improve Rebui
 ld\,  Fistful Of Fuck You\,  Dancers\,  When The Freaks Come Out und Know Y
 our Darkness gehen allesamt auf sein Konto. Und wenn[..]\nhttps://black-gen
 eration.de/events/faderhead-sold-out/
URL:https://black-generation.de/events/faderhead-sold-out/
END:VEVENT
END:VCALENDAR