BEGIN:VCALENDAR
VERSION:2.0
PRODID:-//eventon.com NONSGML v1.0//EN
CALSCALE:GREGORIAN
METHOD:PUBLISH
BEGIN:VEVENT
UID:69ea3c769501c
DTSTAMP:20260423T153622Z
DTSTART:20220903T170000Z
DTEND:20220903T215000Z
LOCATION:Sioux Dakota Club
SUMMARY:Schwarzwerk Party | Live: A Spell Inside
DESCRIPTION:Die zweite SCHWARZWERK-PARTY 2022 mit Live-Band wird am 03. Sep
 tember steigen.Wir freuen uns sehr auf A SPELL INSIDE!Im Anschluss werden w
 ir wieder ausgelassen tanzen und feiern kÃ¶nnen. Wie immer bieten wir GetrÃ
 ¤nke zu kleinen Preisen und Speisen fÃ¼r den Hunger zwischendurch (im Eintr
 itt enthalten) an.Eintritt: VVK 10 â‚¬ / AK[..]\nhttps://black-generation.d
 e/events/schwarzwerk-party-live-a-spell-inside/
URL:https://black-generation.de/events/schwarzwerk-party-live-a-spell-inside/
END:VEVENT
END:VCALENDAR