BEGIN:VCALENDAR
VERSION:2.0
PRODID:-//eventon.com NONSGML v1.0//EN
CALSCALE:GREGORIAN
METHOD:PUBLISH
BEGIN:VEVENT
UID:69e979a7271f0
DTSTAMP:20260423T014511Z
DTSTART:20221216T190000Z
DTEND:20221216T225000Z
LOCATION:Musa
SUMMARY:Phillip Boa and the Voodooclub
DESCRIPTION:Phillip Boa And The Voodooclub laden zu exklusiven Best-of-Show
 s &#8211; das darf man nicht verpassen!\nhttps://black-generation.de/events
 /phillip-boa-and-the-voodooclub-11/
URL:https://black-generation.de/events/phillip-boa-and-the-voodooclub-11/
END:VEVENT
END:VCALENDAR