BEGIN:VCALENDAR
VERSION:2.0
PRODID:-//eventon.com NONSGML v1.0//EN
CALSCALE:GREGORIAN
METHOD:PUBLISH
BEGIN:VEVENT
UID:69ea329fc4bea
DTSTAMP:20260423T145423Z
DTSTART:20221105T190000Z
DTEND:20221105T225000Z
LOCATION:Markthalle Klosterwall 11\,  20095 Hamburg
SUMMARY:Phillip Boa and the Voodooclub
DESCRIPTION:Phillip Boa And The Voodooclub laden zu exklusiven Best-of-Show
 s &#8211; das darf man nicht verpassen!\nhttps://black-generation.de/events
 /phillip-boa-and-the-voodooclub-7/
URL:https://black-generation.de/events/phillip-boa-and-the-voodooclub-7/
END:VEVENT
END:VCALENDAR