BEGIN:VCALENDAR
VERSION:2.0
PRODID:-//eventon.com NONSGML v1.0//EN
CALSCALE:GREGORIAN
METHOD:PUBLISH
BEGIN:VEVENT
UID:69e764a125690
DTSTAMP:20260421T115057Z
DTSTART:20220716T150000Z
DTEND:20220716T215000Z
LOCATION:Hellraiser Werkstättenstraße 4\,  04319 Leipzig
SUMMARY:Ending On A Dark Note
DESCRIPTION:Live on StageHaujobbFix8:Sed8AmnistiaG.O.L.E.M.\nhttps://black-
 generation.de/events/ending-on-a-dark-note/
URL:https://black-generation.de/events/ending-on-a-dark-note/
END:VEVENT
END:VCALENDAR