BEGIN:VCALENDAR
VERSION:2.0
PRODID:-//eventon.com NONSGML v1.0//EN
CALSCALE:GREGORIAN
METHOD:PUBLISH
BEGIN:VEVENT
UID:69e7440c95ac7
DTSTAMP:20260421T093156Z
DTSTART:20220414T170000Z
DTEND:20220414T210000Z
LOCATION:Kulttempel Oberhausen Mülheimer Str. 24\,  46049 Oberhausen
SUMMARY:Frozen Plasma
DESCRIPTION:2020 sind es 15 Jahre her\,  seit Vasi Vallis und Felix Marc da
 s Frozen Plasma Debütalbum „Artificial“ veröffentlichten aus dem unte
 r anderem Ihr erster großer Hit „Irony“ hervorging. Es folgte das Mini
 -Album „Emphasize“\,  das mit dem Szenenhit „Warmongers“ den Aufsti
 eg der Band untermauerte und sie vom „One Hit Wonder“ zur[..]\nhttps://
 black-generation.de/events/frozen-plasma-12/
URL:https://black-generation.de/events/frozen-plasma-12/
END:VEVENT
END:VCALENDAR