BEGIN:VCALENDAR
VERSION:2.0
PRODID:-//eventon.com NONSGML v1.0//EN
CALSCALE:GREGORIAN
METHOD:PUBLISH
BEGIN:VEVENT
UID:69e96d539c3b7
DTSTAMP:20260423T005235Z
DTSTART:20221105T180000Z
DTEND:20221105T225000Z
LOCATION:Kulturzentrum Strasse E
SUMMARY:De/Vision
DESCRIPTION:Als Ort für eine weitere Show hat man sich die Strasse E in Dr
 esden ausgesucht\,  um Euch eine bunte Mischung aus jungen und altbekannten
  Hits zu präsentieren. Quasi eine Art Corona-Best-Of-Setlist!\nhttps://bla
 ck-generation.de/events/de-vision-3/
URL:https://black-generation.de/events/de-vision-3/
END:VEVENT
END:VCALENDAR