BEGIN:VCALENDAR
VERSION:2.0
PRODID:-//eventon.com NONSGML v1.0//EN
CALSCALE:GREGORIAN
METHOD:PUBLISH
BEGIN:VEVENT
UID:69e7910467b24
DTSTAMP:20260421T150020Z
DTSTART:20220128T190000Z
DTEND:20220128T225000Z
LOCATION:Stadthalle Wilhelmshaven
SUMMARY:Johannes Oerding
DESCRIPTION:Eine außergewöhnliche Stimme gepaart mit beeindruckenden Ente
 rtainerqualitäten machen Johannes Oerding live zu einem ganz besonderen Er
 lebnis. Der Hamburg kommt mit seinem sechsten Album &#8222;Konturen&#8220; 
 im Gepäck\nhttps://black-generation.de/events/johannes-oerding-15/
URL:https://black-generation.de/events/johannes-oerding-15/
END:VEVENT
END:VCALENDAR