BEGIN:VCALENDAR
VERSION:2.0
PRODID:-//eventon.com NONSGML v1.0//EN
CALSCALE:GREGORIAN
METHOD:PUBLISH
BEGIN:VEVENT
UID:69ea003da0185
DTSTAMP:20260423T111925Z
DTSTART:20220428T180000Z
DTEND:20220428T215000Z
LOCATION:Das Bett Schmidtstraße 12\,  60326 Frankfurt am Main
SUMMARY:Eisfabrik
DESCRIPTION:Während andere in Winterstarre verfallen\,  veröffentlichen E
 isfabrik am 25.02.2022 ihr sechstes Album „Life Below Zero“\,  mit dem 
 die Meister des Future-Pop ab dem 28.04.2022 auf große Deutschland-Tour ge
 hen..\nhttps://black-generation.de/events/eisfabrik-4/
URL:https://black-generation.de/events/eisfabrik-4/
END:VEVENT
END:VCALENDAR