BEGIN:VCALENDAR
VERSION:2.0
PRODID:-//eventon.com NONSGML v1.0//EN
CALSCALE:GREGORIAN
METHOD:PUBLISH
BEGIN:VEVENT
UID:69e7cb8386326
DTSTAMP:20260421T190955Z
DTSTART:20220401T170000Z
DTEND:20220401T213000Z
LOCATION:Das Bett Schmidtstraße 12\,  60326 Frankfurt am Main
SUMMARY:Unzucht
DESCRIPTION:Unzucht melden sich zurück – naja\,  noch nicht so ganz. Abe
 r so ein bisschen. Denn Deutschlands Dark-Rock-Heroes haben jetzt nicht nur
  ihr neues Album\,  sondern auch die dazugehörige Tournee bestätigt. Aber
  der Reihe nach: „Jenseits der Welt“ ist der Name des sechsten Langspie
 lers aus dem Hause Unzucht. Irgendwann 2020 soll[..]\nhttps://black-generat
 ion.de/events/unzucht-49/
URL:https://black-generation.de/events/unzucht-49/
END:VEVENT
END:VCALENDAR