BEGIN:VCALENDAR
VERSION:2.0
PRODID:-//eventon.com NONSGML v1.0//EN
CALSCALE:GREGORIAN
METHOD:PUBLISH
BEGIN:VEVENT
UID:69e7b85277ef8
DTSTAMP:20260421T174802Z
DTSTART:20210828T163000Z
DTEND:20210828T200000Z
LOCATION:Revierpark Nienhausen
SUMMARY:Kirlian Camera & special guests
DESCRIPTION:Kirlian Camera legen mit &#8222;Cold Pills (Scarlet Gate of Tox
 ic Daybreak)&#8220; ihr musikalisch bisher dunkelstes Werk vor. Dabei erwei
 tern die italienischen Elektro-Provokateure par excellence auf diesem wucht
 igen Doppelalbum ihren ohnehin schon breit gefächerten Sound um einen unte
 rschwellig metallischen Vibe. Trotz diese subtilen\,  aber hörbaren Versch
 iebung weg von den poppigeren Experimenten[..]\nhttps://black-generation.de
 /events/kirlian-camera-special-guests/
URL:https://black-generation.de/events/kirlian-camera-special-guests/
END:VEVENT
END:VCALENDAR