BEGIN:VCALENDAR
VERSION:2.0
PRODID:-//eventon.com NONSGML v1.0//EN
CALSCALE:GREGORIAN
METHOD:PUBLISH
BEGIN:VEVENT
UID:69e670eb0ac86
DTSTAMP:20260420T183107Z
DTSTART:20210703T180000Z
DTEND:20210703T210000Z
LOCATION:Backstage Arena Süd
SUMMARY:Solar Fake
DESCRIPTION:Full Length Show\nhttps://black-generation.de/events/solar-fake
 -10/
URL:https://black-generation.de/events/solar-fake-10/
END:VEVENT
END:VCALENDAR