BEGIN:VCALENDAR
VERSION:2.0
PRODID:-//eventon.com NONSGML v1.0//EN
CALSCALE:GREGORIAN
METHOD:PUBLISH
BEGIN:VEVENT
UID:69eab421b3440
DTSTAMP:20260424T000657Z
DTSTART:20211211T180000Z
DTEND:20211211T220000Z
LOCATION:Nuke Club
SUMMARY:Faderhead
DESCRIPTION:Faderhead&#8217;s 10. Studioalbum &#8222;Asteria&#8220; erschei
 nt im Oktober 2019 und klingt düsterer denn je. Eine musikalische Entwickl
 ung mit der wohl nur die wenigsten gerechnet haben! Natürlich besucht der 
 Hamburger mit den neuen Songs auch wieder die deutschen Clubs um die aktuel
 l wohl beste Dark Electro Show der Szene zu präsentieren. Auf[..]\nhttps:/
 /black-generation.de/events/faderhead-12/
URL:https://black-generation.de/events/faderhead-12/
END:VEVENT
END:VCALENDAR