BEGIN:VCALENDAR
VERSION:2.0
PRODID:-//eventon.com NONSGML v1.0//EN
CALSCALE:GREGORIAN
METHOD:PUBLISH
BEGIN:VEVENT
UID:69e6278c02c23
DTSTAMP:20260420T131804Z
DTSTART:20220614T170000Z
DTEND:20220614T210000Z
LOCATION:Volksparkstadion
SUMMARY:Rammstein
DESCRIPTION:Wenn es noch an Beweisen fehlte\,  dass Rammstein zu den moment
 an größten Bands der Welt gehören\,  sollte die Sache nach der Veröffen
 tlichung von „Rammstein“\,  dem 7. Album der Band\,  und dem ersten Tei
 l der Stadiontour endgültig klar sein. Denn da gab es: seitenweise Feuille
 ton-Diskussionen\,  der Sprung auf Platz 1 der[..]\nhttps://black-generatio
 n.de/events/rammstein-27/
URL:https://black-generation.de/events/rammstein-27/
END:VEVENT
END:VCALENDAR