BEGIN:VCALENDAR
VERSION:2.0
PRODID:-//eventon.com NONSGML v1.0//EN
CALSCALE:GREGORIAN
METHOD:PUBLISH
BEGIN:VEVENT
UID:69e683dee7526
DTSTAMP:20260420T195158Z
DTSTART:20220402T170000Z
DTEND:20220402T213000Z
LOCATION:MS Connexion Complex Angelstraße 33\,  68199 Mannheim
SUMMARY:L’Âme Immortelle
DESCRIPTION:Es wird ganz still. Man spürt seinen Herzschlag wenn L’Âme 
 Immortelle die Bühne betreten. Sofort ziehen die Stimmen von Sonja Krausho
 fer und Thomas Rainer das Publikum in den Bann. Romantisch\,  schön\,  zer
 brechlich\,  brachial\,  verzweifelt\,  ja manchmal auch ganz nahe am Wahns
 inn\nhttps://black-generation.de/events/lame-immortelle-15/
URL:https://black-generation.de/events/lame-immortelle-15/
END:VEVENT
END:VCALENDAR