BEGIN:VCALENDAR
VERSION:2.0
PRODID:-//eventon.com NONSGML v1.0//EN
CALSCALE:GREGORIAN
METHOD:PUBLISH
BEGIN:VEVENT
UID:69e7fbcbddc5a
DTSTAMP:20260421T223555Z
DTSTART:20210625
DTEND:20210626
LOCATION:Kulturpark Deutzen
SUMMARY:E-Only Festival 2021
DESCRIPTION:Tag 1 – 25.06.2021 Amphibühne Bands sind in alphabetischer R
 eihenfolge aufgelistet. Die genauen Spielzeiten kommen später! Uhrzeit Ban
 d / Künstler 15:00 Uhr Einlass Covenant Das Ich Me The Tiger Placebo Effec
 t Parkbühne Bands sind in alphabetischer Reihenfolge aufgelistet. Die gena
 uen Spielzeiten kommen später! Uhrzeit Band / Künstler 15.00 Uhr Einlass[
 ..]\nhttps://black-generation.de/events/e-only-festival-2021-2/
URL:https://black-generation.de/events/e-only-festival-2021-2/
END:VEVENT
END:VCALENDAR