BEGIN:VCALENDAR
VERSION:2.0
PRODID:-//eventon.com NONSGML v1.0//EN
CALSCALE:GREGORIAN
METHOD:PUBLISH
BEGIN:VEVENT
UID:69e847fe8ef92
DTSTAMP:20260422T040102Z
DTSTART:20220312T190000Z
DTEND:20220312T223000Z
LOCATION:Stadthalle Offenbach
SUMMARY:Simple Minds
DESCRIPTION:Die Simple Minds sind musikalische Pioniere – und das seit 40
  Jahren. Sie haben die Post-Punk-Ära bestimmend geprägt\,  als der wüten
 de Krach von 1977 in tausenderlei Sounds zersplitterte. Sie haben den styli
 schen Art-Rock von David Bowie genauso organisch in ihre Songs übernommen 
 wie das elektronische Disco-Geplucker von Donna Summer. Sie[..]\nhttps://bl
 ack-generation.de/events/simple-minds-42/
URL:https://black-generation.de/events/simple-minds-42/
END:VEVENT
END:VCALENDAR