BEGIN:VCALENDAR
VERSION:2.0
PRODID:-//eventon.com NONSGML v1.0//EN
CALSCALE:GREGORIAN
METHOD:PUBLISH
BEGIN:VEVENT
UID:69ea96b6153ce
DTSTAMP:20260423T220126Z
DTSTART:20220320T070000Z
DTEND:20220320T103000Z
LOCATION:Hellraiser Werkstättenstraße 4\,  04319 Leipzig
SUMMARY:Heimataerde
DESCRIPTION:Die Tempelherren des Mittelalterelektro melden sich wieder live
  zurück und gehen mit ihrem neuen Album &#8222;Eigengrab&#8220; im Januar 
 auf Deutschland-Tour.\nhttps://black-generation.de/events/heimataerde-6/
URL:https://black-generation.de/events/heimataerde-6/
END:VEVENT
END:VCALENDAR