BEGIN:VCALENDAR
VERSION:2.0
PRODID:-//eventon.com NONSGML v1.0//EN
CALSCALE:GREGORIAN
METHOD:PUBLISH
BEGIN:VEVENT
UID:69e5dbb799756
DTSTAMP:20260420T075431Z
DTSTART:20210928T060000Z
DTEND:20210928T100000Z
LOCATION:Löwensaal
SUMMARY:The Sisters Of Mercy
DESCRIPTION:Andrew Eldritch\,  Mastermind der The Sisters Of Mercy\,  zieht
  es ein weiteres Mal auf deutsche Bühnen!\nhttps://black-generation.de/eve
 nts/the-sisters-of-mercy-22/
URL:https://black-generation.de/events/the-sisters-of-mercy-22/
END:VEVENT
END:VCALENDAR