BEGIN:VCALENDAR
VERSION:2.0
PRODID:-//eventon.com NONSGML v1.0//EN
CALSCALE:GREGORIAN
METHOD:PUBLISH
BEGIN:VEVENT
UID:69ea2fe3dccf7
DTSTAMP:20260423T144243Z
DTSTART:20210809T180000Z
DTEND:20210809T210000Z
LOCATION:Frannz-Club
SUMMARY:Combichrist
DESCRIPTION:Die norwegisch-amerikanische Band Combichrist\,  besser gesagt 
 ihr Gründer Andy LaPlegua\,  der im Studio von wechselnden Musikern beglei
 tet wird\,  gilt als die populärste Industrial Core Band und ist bekannt f
 ür ihre intensive Live Performance. 2019 veröffentlichten Combichrist ihr
  neuntes Studioalbum ‘One Fire’ – eine Art Retrospektive\,  auf der s
 ich Andy LaPlegua[..]\nhttps://black-generation.de/events/combichrist-4/
URL:https://black-generation.de/events/combichrist-4/
END:VEVENT
END:VCALENDAR