BEGIN:VCALENDAR
VERSION:2.0
PRODID:-//eventon.com NONSGML v1.0//EN
CALSCALE:GREGORIAN
METHOD:PUBLISH
BEGIN:VEVENT
UID:69e730ea348f8
DTSTAMP:20260421T081018Z
DTSTART:20220211T190000Z
DTEND:20220211T220000Z
LOCATION:FZW
SUMMARY:Deine Lakaien
DESCRIPTION:Deine Lakaien legen noch weitere Termine zur Dual Tour nach.\nh
 ttps://black-generation.de/events/deine-lakaien-16/
URL:https://black-generation.de/events/deine-lakaien-16/
END:VEVENT
END:VCALENDAR