BEGIN:VCALENDAR
VERSION:2.0
PRODID:-//eventon.com NONSGML v1.0//EN
CALSCALE:GREGORIAN
METHOD:PUBLISH
BEGIN:VEVENT
UID:69e641fa94fb1
DTSTAMP:20260420T151050Z
DTSTART:20211112T190000Z
DTEND:20211112T223000Z
LOCATION:Kulttempel Oberhausen Mülheimer Str. 24\,  46049 Oberhausen
SUMMARY:Welle:Erdball
DESCRIPTION:Welle:Erdball gehen unter dem Motto &#8222;Film\,  Funk + Ferns
 ehen&#8220; Ende 2021 auf Tournee.\nhttps://black-generation.de/events/well
 eerdball-3/
URL:https://black-generation.de/events/welleerdball-3/
END:VEVENT
END:VCALENDAR