BEGIN:VCALENDAR
VERSION:2.0
PRODID:-//eventon.com NONSGML v1.0//EN
CALSCALE:GREGORIAN
METHOD:PUBLISH
BEGIN:VEVENT
UID:69e7cb83877f5
DTSTAMP:20260421T190955Z
DTSTART:20210528T180000Z
DTEND:20210528T213000Z
LOCATION:MS Connexion Complex Angelstraße 33\,  68199 Mannheim
SUMMARY:Eisfabrik
DESCRIPTION:32 Grad Celsius im Schatten und es schneit?! Das ist kein Fehle
 r im System der Elemente oder der Erderwärmung geschuldet\,  sondern passi
 ert genau dann\,  wenn die Eisfabrik die Bühnen dieser Welt betritt. Eisfa
 brik ist ein Kunstprojekt mit fest integrierten Figuren als Protagonisten u
 nd sollte in seinem Gesamtkonzept auch als eigenständige[..]\nhttps://blac
 k-generation.de/events/eisfabrik-3/
URL:https://black-generation.de/events/eisfabrik-3/
END:VEVENT
END:VCALENDAR