BEGIN:VCALENDAR
VERSION:2.0
PRODID:-//eventon.com NONSGML v1.0//EN
CALSCALE:GREGORIAN
METHOD:PUBLISH
BEGIN:VEVENT
UID:69e94ada48cd8
DTSTAMP:20260422T222530Z
DTSTART:20200911
DTEND:20200912
LOCATION:Museumspark Rüdersdorf
SUMMARY:2. Dark Horizon Open Air
DESCRIPTION:Wegen Corona ist die Teilnehmerzahl auf 1000 Personen begrenzt!
  Es gelten die AKTUELLEN Corona Regeln. Die genauen Verhaltensregeln gibt d
 er Veranstalter kurz vorher bekannt\,  da sich diese ständig ändern. Jede
 r Gast muss für das Gesundheitsamt bem Veranstalter\,  namentlich und mit 
 E Mail\,  gelistet sein für den Fall der Fälle.\nhttps://black-generation
 .de/events/2-dark-horizon-open-air/
URL:https://black-generation.de/events/2-dark-horizon-open-air/
END:VEVENT
END:VCALENDAR