BEGIN:VCALENDAR
VERSION:2.0
PRODID:-//eventon.com NONSGML v1.0//EN
CALSCALE:GREGORIAN
METHOD:PUBLISH
BEGIN:VEVENT
UID:69e73323a9bae
DTSTAMP:20260421T081947Z
DTSTART:20200814T180000Z
DTEND:20200814T230000Z
LOCATION:Der Cult - nightclub &amp; more
SUMMARY:GREY AREA goes CULT Garten
DESCRIPTION:Der perfekte Sommerabend mit kühlen Getränken und lecker Gril
 lereien im wunderbaren CULT Biergarten. Hellbunny3 und DJ Taube machen dazu
  Musik für euch! ???????????? Der kleine aber feine Biergarten hat leider 
 nur ein Fassungsvermögen von 40 Personen. Sichert euch also unbedingt vora
 b ein Plätzchen und schreibt uns ab 14 Uhr eine[..]\nhttps://black-generat
 ion.de/events/grey-area-goes-cult-garten/
URL:https://black-generation.de/events/grey-area-goes-cult-garten/
END:VEVENT
END:VCALENDAR