BEGIN:VCALENDAR
VERSION:2.0
PRODID:-//eventon.com NONSGML v1.0//EN
CALSCALE:GREGORIAN
METHOD:PUBLISH
BEGIN:VEVENT
UID:69e5dd7d4c457
DTSTAMP:20260420T080205Z
DTSTART:20210109T070000Z
DTEND:20210109T103000Z
LOCATION:Hellraiser Werkstättenstraße 4\,  04319 Leipzig
SUMMARY:Heimataerde
DESCRIPTION:Die Tempelherren des Mittelalterelektro melden sich wieder live
  zurück und gehen mit ihrem neuen Album &#8222;Eigengrab&#8220; im Januar 
 auf Deutschland-Tour.\nhttps://black-generation.de/events/heimataerde/
URL:https://black-generation.de/events/heimataerde/
END:VEVENT
END:VCALENDAR