BEGIN:VCALENDAR
VERSION:2.0
PRODID:-//eventon.com NONSGML v1.0//EN
CALSCALE:GREGORIAN
METHOD:PUBLISH
BEGIN:VEVENT
UID:69e5ca8cecd61
DTSTAMP:20260420T064116Z
DTSTART:20210116T060000Z
DTEND:20210116T100000Z
LOCATION:Sumpfblume Kultur- und Kommunikationszentrum Am Stockhof 2a\,  31785 Hameln
SUMMARY:Funker Vogt
DESCRIPTION:Mit neuer EP im Marschgepäck bringen die Funker im April 2020 
 auf einer kleinen Club-Tour die Tanzböden Deutschlands wieder zum Kochen! 
 Nach den Erfolgsalben „Code of Conduct“ und „Wastelands“ inkl. der 
 vier Singleauskopplungen arbeitet man bereits an der siebten Veröffentlich
 ung seit der Neubesetzung mit Chris L. am Mikrofon\,  die Ende[..]\nhttps:/
 /black-generation.de/events/funker-vogt-6/
URL:https://black-generation.de/events/funker-vogt-6/
END:VEVENT
END:VCALENDAR