BEGIN:VCALENDAR
VERSION:2.0
PRODID:-//eventon.com NONSGML v1.0//EN
CALSCALE:GREGORIAN
METHOD:PUBLISH
BEGIN:VEVENT
UID:69e8ec22e7288
DTSTAMP:20260422T154122Z
DTSTART:20201013T190000Z
DTEND:20201013T230000Z
LOCATION:König-Pilsener Arena
SUMMARY:Die drei ??? und der dunkle Taipan
DESCRIPTION:40 Jahre „Die drei ???“ im Hörspiel – das wird gefeiert!
  Natürlich mit den Original-Sprechern der Kult- Detektive: Oliver Rohrbeck
  („Justus Jonas“)\,  Jens Wawrczeck („Peter Shaw“) und Andreas Frö
 hlich („Bob Andrews“). Anlässlich dieses Jubiläums gehen die drei nic
 ht ins Tonstudio\,  sondern mit „Die drei ??? und der dunkle Taipan“ li
 ve[..]\nhttps://black-generation.de/events/die-drei-und-der-dunkle-taipan-3
 6/
URL:https://black-generation.de/events/die-drei-und-der-dunkle-taipan-36/
END:VEVENT
END:VCALENDAR