BEGIN:VCALENDAR
VERSION:2.0
PRODID:-//eventon.com NONSGML v1.0//EN
CALSCALE:GREGORIAN
METHOD:PUBLISH
BEGIN:VEVENT
UID:69e6fa9bdd67f
DTSTAMP:20260421T041835Z
DTSTART:20200911T184500Z
DTEND:20200911T230000Z
LOCATION:Lindenpark Stahnsdorfer Str. 76\,  14482 Potsdam
SUMMARY:Covenant
DESCRIPTION:Covenant gehen 2020 wieder auf Tour und präsentieren den zweit
 en Teil ihrer Fieldworks Tour.\nhttps://black-generation.de/events/covenant
 -7/
URL:https://black-generation.de/events/covenant-7/
END:VEVENT
END:VCALENDAR