BEGIN:VCALENDAR
VERSION:2.0
PRODID:-//eventon.com NONSGML v1.0//EN
CALSCALE:GREGORIAN
METHOD:PUBLISH
BEGIN:VEVENT
UID:69e5c424a89c3
DTSTAMP:20260420T061356Z
DTSTART:20200605T190000Z
DTEND:20200605T233000Z
LOCATION:MusikZentrum Emil-Meyer-Straße 26\,  30165 Hannover
SUMMARY:Project Pitchfork // Sold Out
DESCRIPTION:Die Tourdaten 2020 sind komplett! Nach den verlegten Daten der 
 Frühjahrs-Tour geht es im Herbst weiter. Unter anderem zum ersten Mal in L
 indau am Bodensee und endlich mal wieder in der Stadthalle Gotha! Außerdem
  sind wir im Sommer wieder zu Gast auf der Festung Königstein\,  in Sint N
 iklaas (B) und[..]\nhttps://black-generation.de/events/project-pitchfork-17
 /
URL:https://black-generation.de/events/project-pitchfork-17/
END:VEVENT
END:VCALENDAR