BEGIN:VCALENDAR
VERSION:2.0
PRODID:-//eventon.com NONSGML v1.0//EN
CALSCALE:GREGORIAN
METHOD:PUBLISH
BEGIN:VEVENT
UID:69e5effb89753
DTSTAMP:20260420T092059Z
DTSTART:20201023T190000Z
DTEND:20201023T233000Z
LOCATION:Diskothek &quot;Zwei Linden&quot;
SUMMARY:Project Pitchfork
DESCRIPTION:Die Tourdaten 2020 sind komplett! Nach den verlegten Daten der 
 Frühjahrs-Tour geht es im Herbst weiter. Unter anderem zum ersten Mal in L
 indau am Bodensee und endlich mal wieder in der Stadthalle Gotha! Außerdem
  sind wir im Sommer wieder zu Gast auf der Festung Königstein\,  in Sint N
 iklaas (B) und[..]\nhttps://black-generation.de/events/project-pitchfork-15
 /
URL:https://black-generation.de/events/project-pitchfork-15/
END:VEVENT
END:VCALENDAR