BEGIN:VCALENDAR
VERSION:2.0
PRODID:-//eventon.com NONSGML v1.0//EN
CALSCALE:GREGORIAN
METHOD:PUBLISH
BEGIN:VEVENT
UID:69e8554c073b2
DTSTAMP:20260422T045748Z
DTSTART:20191220T200000Z
DTEND:20191220T230000Z
LOCATION:Frannz-Club
SUMMARY:Árstíðir
DESCRIPTION:Árstíðir kommen mit ihrem besonderen Weihnachtsevent zurück
  auf die Bühnen Europas! Die kommende Tour\,  welche die Band quer durch E
 uropa bringt\,  fängt Ende November an und wird bis kurz vor Weihnachten a
 ndauern. Árstíðir kommentiert: „Seit 2008 spielen wir in Island jedes 
 Jahr unsere besonderen Weihnachtsevents im Dezember. Wir kombinieren unsere
 [..]\nhttps://black-generation.de/events/arstidir-5/
URL:https://black-generation.de/events/arstidir-5/
END:VEVENT
END:VCALENDAR