BEGIN:VCALENDAR
VERSION:2.0
PRODID:-//eventon.com NONSGML v1.0//EN
CALSCALE:GREGORIAN
METHOD:PUBLISH
BEGIN:VEVENT
UID:69e64268843ae
DTSTAMP:20260420T151240Z
DTSTART:20191204T200000Z
DTEND:20191204T233000Z
LOCATION:LOGO
SUMMARY:Die Krupps
DESCRIPTION:Wenn man Ã¼ber Industrial-Pioniere spricht\,  darf eine Band ni
 cht fehlen: DIE KRUPPS. Neben Kraftwerk und den EinstÃ¼rzenden Neubauten is
 t die Band aus DÃ¼sseldorf seit den 80er-Jahren einer der international prÃ
 ¤senten und relevanten Wegbereiter fÃ¼r den Sound\,  der hier wie bei niema
 nd anderem die Werkzeug-Rhythmik und den Maschinenklang in einem Stahlwerk[
 ..]\nhttps://black-generation.de/events/die-krupps-5/
URL:https://black-generation.de/events/die-krupps-5/
END:VEVENT
END:VCALENDAR