BEGIN:VCALENDAR
VERSION:2.0
PRODID:-//eventon.com NONSGML v1.0//EN
CALSCALE:GREGORIAN
METHOD:PUBLISH
BEGIN:VEVENT
UID:69e9baac1c86b
DTSTAMP:20260423T062236Z
DTSTART:20260823T150000Z
DTEND:20260823T200000Z
LOCATION:Kulttempel Oberhausen Mülheimer Str. 24\,  46049 Oberhausen
SUMMARY:Future Pop Matinee (Oberhausen\,  DE)
DESCRIPTION:Wer kennt ihn nicht: den ultimativen Sonntagsblues? Das Wochene
 nde ist eigentlich noch in vollem Gange\,  aber die Arbeit winkt schon um d
 ie Ecke. Im Freundeskreis ist deswegen niemand motiviert etwas zu unternehm
 en. Und ganz so lange will man ja auch selbst nicht ausgehen. Also\,  was t
 un? Dann kommt zum Future[..]\nhttps://black-generation.de/events/future-po
 p-matinee-oberhausen-de/
URL:https://black-generation.de/events/future-pop-matinee-oberhausen-de/
END:VEVENT
END:VCALENDAR