BEGIN:VCALENDAR
VERSION:2.0
PRODID:-//eventon.com NONSGML v1.0//EN
CALSCALE:GREGORIAN
METHOD:PUBLISH
BEGIN:VEVENT
UID:69e683912c295
DTSTAMP:20260420T195041Z
DTSTART:20261219T190000Z
DTEND:20261219T230000Z
LOCATION:Kulttempel Oberhausen Mülheimer Str. 24\,  46049 Oberhausen
SUMMARY:Neuroticfish (Oberhausen\,  DE)
DESCRIPTION:Das Warten hat ein Ende: HEIMSPIEL VII steht vor der Tür! Neur
 oticfish feiern am 19. Dezember 2026 im Kulttempel Oberhausen die siebte Au
 sgabe ihres exklusiven Festivalformats – gemeinsam mit Haujobb und SIIE a
 ls Special Guests. Und natürlich kommen Neuroticfish mit neuem Album im Ge
 päck.\nhttps://black-generation.de/events/neuroticfish-oberhausen-de/
URL:https://black-generation.de/events/neuroticfish-oberhausen-de/
END:VEVENT
END:VCALENDAR