BEGIN:VCALENDAR
VERSION:2.0
PRODID:-//eventon.com NONSGML v1.0//EN
CALSCALE:GREGORIAN
METHOD:PUBLISH
BEGIN:VEVENT
UID:69e7ee17cd3ed
DTSTAMP:20260421T213727Z
DTSTART:20261128T200000Z
DTEND:20261128T230000Z
LOCATION:Werk-Stadt
SUMMARY:Biomekkanik & Johan Baeckström (Witten\,  DE)
DESCRIPTION:Biomekkanik &amp; Johan Baeckström Live in der WerkStadt\,  Wi
 tten. Am 28. November 2026 treffen in der WerkStadt Witten zwei prägende N
 amen der schwedischen Synthpop-Szene aufeinander: Biomekkanik und Johan Bae
 ckström.\nhttps://black-generation.de/events/biomekkanik-johan-baeckstroem
 -witten-de/
URL:https://black-generation.de/events/biomekkanik-johan-baeckstroem-witten-de/
END:VEVENT
END:VCALENDAR